BEGIN:VCALENDAR
VERSION:2.0
PRODID:-//The Pet Adoption Center of Orange County - ECPv6.15.13//NONSGML v1.0//EN
CALSCALE:GREGORIAN
METHOD:PUBLISH
X-ORIGINAL-URL:https://adoptocpets.org
X-WR-CALDESC:Events for The Pet Adoption Center of Orange County
REFRESH-INTERVAL;VALUE=DURATION:PT1H
X-Robots-Tag:noindex
X-PUBLISHED-TTL:PT1H
BEGIN:VTIMEZONE
TZID:America/Los_Angeles
BEGIN:DAYLIGHT
TZOFFSETFROM:-0800
TZOFFSETTO:-0700
TZNAME:PDT
DTSTART:20220313T100000
END:DAYLIGHT
BEGIN:STANDARD
TZOFFSETFROM:-0700
TZOFFSETTO:-0800
TZNAME:PST
DTSTART:20221106T090000
END:STANDARD
BEGIN:DAYLIGHT
TZOFFSETFROM:-0800
TZOFFSETTO:-0700
TZNAME:PDT
DTSTART:20230312T100000
END:DAYLIGHT
BEGIN:STANDARD
TZOFFSETFROM:-0700
TZOFFSETTO:-0800
TZNAME:PST
DTSTART:20231105T090000
END:STANDARD
BEGIN:DAYLIGHT
TZOFFSETFROM:-0800
TZOFFSETTO:-0700
TZNAME:PDT
DTSTART:20240310T100000
END:DAYLIGHT
BEGIN:STANDARD
TZOFFSETFROM:-0700
TZOFFSETTO:-0800
TZNAME:PST
DTSTART:20241103T090000
END:STANDARD
END:VTIMEZONE
BEGIN:VEVENT
DTSTART;TZID=America/Los_Angeles:20231013T150000
DTEND;TZID=America/Los_Angeles:20231013T180000
DTSTAMP:20260420T041041
CREATED:20231008T232228Z
LAST-MODIFIED:20231008T232228Z
UID:3576-1697209200-1697220000@adoptocpets.org
SUMMARY:OCMA Anniversary Week: Furry Friends Friday
DESCRIPTION:The Pet Adoption Center of Orange County will be celebrating Anniversary Week with the Orange County Museum of Art in Costa Mesa on Friday\, October 13\, 2023 from 3-6 pm with a pop-up adoption event. Join us for Furry Friends Friday \nInspired by their exhibition Alice Neel: Feels Like Home\, OCMA is happy to host a day dedicated to people and pets! Bring your best furry friends and enjoy pet portraits\, adorable dog treats from Pup & Pop Bakeshop\, and a special opportunity to meet and adopt rescued dogs from The Pet Adoption Center of Orange County! \n 
URL:https://adoptocpets.org/event/ocma-anniversary-week-furry-friends-friday/
LOCATION:Orange County Museum of Art\, 3333 Avenue of the Arts\, Costa Mesa\, CA\, 92626\, United States
CATEGORIES:Adoption Event,Events
ATTACH;FMTTYPE=image/jpeg:https://adoptocpets.org/wp-content/uploads/2023/10/IMG_2835.jpeg
END:VEVENT
END:VCALENDAR