BEGIN:VCALENDAR
VERSION:2.0
PRODID:-//The Pet Adoption Center of Orange County - ECPv6.15.13//NONSGML v1.0//EN
CALSCALE:GREGORIAN
METHOD:PUBLISH
X-WR-CALNAME:The Pet Adoption Center of Orange County
X-ORIGINAL-URL:https://adoptocpets.org
X-WR-CALDESC:Events for The Pet Adoption Center of Orange County
REFRESH-INTERVAL;VALUE=DURATION:PT1H
X-Robots-Tag:noindex
X-PUBLISHED-TTL:PT1H
BEGIN:VTIMEZONE
TZID:America/Los_Angeles
BEGIN:DAYLIGHT
TZOFFSETFROM:-0800
TZOFFSETTO:-0700
TZNAME:PDT
DTSTART:20240310T100000
END:DAYLIGHT
BEGIN:STANDARD
TZOFFSETFROM:-0700
TZOFFSETTO:-0800
TZNAME:PST
DTSTART:20241103T090000
END:STANDARD
BEGIN:DAYLIGHT
TZOFFSETFROM:-0800
TZOFFSETTO:-0700
TZNAME:PDT
DTSTART:20250309T100000
END:DAYLIGHT
BEGIN:STANDARD
TZOFFSETFROM:-0700
TZOFFSETTO:-0800
TZNAME:PST
DTSTART:20251102T090000
END:STANDARD
BEGIN:DAYLIGHT
TZOFFSETFROM:-0800
TZOFFSETTO:-0700
TZNAME:PDT
DTSTART:20260308T100000
END:DAYLIGHT
BEGIN:STANDARD
TZOFFSETFROM:-0700
TZOFFSETTO:-0800
TZNAME:PST
DTSTART:20261101T090000
END:STANDARD
END:VTIMEZONE
BEGIN:VEVENT
DTSTART;TZID=America/Los_Angeles:20251206T110000
DTEND;TZID=America/Los_Angeles:20251206T140000
DTSTAMP:20260420T090523
CREATED:20251128T221015Z
LAST-MODIFIED:20251128T221015Z
UID:4431-1765018800-1765029600@adoptocpets.org
SUMMARY:Petsmart Rancho Santa Margarita Holiday Adoption Event
DESCRIPTION:We will be at PetSmart 30515 Avenida de las Flores\, Rancho Santa Margarita\, CA 92688 for a holiday adoption event on Saturday\, December 6\, 2025 from 11 am – 2 pm\, with some of our cute\, adoptable dogs. Come meet them and give them a home for the holidays.
URL:https://adoptocpets.org/event/petsmart-rancho-santa-margarita-holiday-adoption-event/
LOCATION:PetSmart Rancho Santa Margarita\, 30515 Avenida de Las Flores\, Rancho Santa Margarita\, CA\, 92688\, United States
CATEGORIES:Adoption Event,Events
ATTACH;FMTTYPE=image/jpeg:https://adoptocpets.org/wp-content/uploads/2025/11/PetSmart_Flyer_12-6.jpeg
END:VEVENT
END:VCALENDAR