BEGIN:VCALENDAR
VERSION:2.0
PRODID:-//The Pet Adoption Center of Orange County - ECPv6.15.13//NONSGML v1.0//EN
CALSCALE:GREGORIAN
METHOD:PUBLISH
X-ORIGINAL-URL:https://adoptocpets.org
X-WR-CALDESC:Events for The Pet Adoption Center of Orange County
REFRESH-INTERVAL;VALUE=DURATION:PT1H
X-Robots-Tag:noindex
X-PUBLISHED-TTL:PT1H
BEGIN:VTIMEZONE
TZID:America/Los_Angeles
BEGIN:DAYLIGHT
TZOFFSETFROM:-0800
TZOFFSETTO:-0700
TZNAME:PDT
DTSTART:20210314T100000
END:DAYLIGHT
BEGIN:STANDARD
TZOFFSETFROM:-0700
TZOFFSETTO:-0800
TZNAME:PST
DTSTART:20211107T090000
END:STANDARD
BEGIN:DAYLIGHT
TZOFFSETFROM:-0800
TZOFFSETTO:-0700
TZNAME:PDT
DTSTART:20220313T100000
END:DAYLIGHT
BEGIN:STANDARD
TZOFFSETFROM:-0700
TZOFFSETTO:-0800
TZNAME:PST
DTSTART:20221106T090000
END:STANDARD
BEGIN:DAYLIGHT
TZOFFSETFROM:-0800
TZOFFSETTO:-0700
TZNAME:PDT
DTSTART:20230312T100000
END:DAYLIGHT
BEGIN:STANDARD
TZOFFSETFROM:-0700
TZOFFSETTO:-0800
TZNAME:PST
DTSTART:20231105T090000
END:STANDARD
END:VTIMEZONE
BEGIN:VEVENT
DTSTART;TZID=America/Los_Angeles:20220430T100000
DTEND;TZID=America/Los_Angeles:20220430T130000
DTSTAMP:20260425T212906
CREATED:20220115T023805Z
LAST-MODIFIED:20220429T152844Z
UID:3132-1651312800-1651323600@adoptocpets.org
SUMMARY:South County Pet Expo 2022
DESCRIPTION:After a two year COVID-19 delay\, the City of Lake Forest and the Pet Adoption Center of Orange County are pleased to present the 2022 South County Pet Expo on Saturday\, April 30\, 2022 from 10 am – 1 pm at the Lake Forest Sports Park. The Pet Expo is back with a renewed energy and increased focus on the most current needs of pets and their people. \nThis family and pet-friendly event will feature rescue groups with loving animals available for adoption\, a low-cost pet vaccine clinic\, exhibits\, vendors providing all manner of pet products and services\, as well as amazing food trucks and more! Due to the enormous popularity of the Pet Expo\, FREE overflow parking will be available from Saddleback Church\, directly across the street from the event. For the safety of all participants\, the event will comply with COVID-19 protocols and best practices in effect on the date of the event. \n \nIf you are a nonprofit animal welfare organization or have a pet-related product or service and would like to participate in the event\, email sponsor@adoptocpets.org for further details.
URL:https://adoptocpets.org/event/south-county-pet-expo-2022/
LOCATION:Lake Forest Sports Park\, 28000 Rancho Parkway\, Lake Forest\, CA\, 92630\, United States
CATEGORIES:Adoption Event,Events,Fundraiser,Low-cost vaccine clinic
ATTACH;FMTTYPE=image/jpeg:https://adoptocpets.org/wp-content/uploads/2022/01/Pet-Expo-2022-Flyer-Final-scaled.jpg
END:VEVENT
END:VCALENDAR