BEGIN:VCALENDAR
VERSION:2.0
PRODID:-//The Pet Adoption Center of Orange County - ECPv6.15.13//NONSGML v1.0//EN
CALSCALE:GREGORIAN
METHOD:PUBLISH
X-WR-CALNAME:The Pet Adoption Center of Orange County
X-ORIGINAL-URL:https://adoptocpets.org
X-WR-CALDESC:Events for The Pet Adoption Center of Orange County
REFRESH-INTERVAL;VALUE=DURATION:PT1H
X-Robots-Tag:noindex
X-PUBLISHED-TTL:PT1H
BEGIN:VTIMEZONE
TZID:America/Los_Angeles
BEGIN:DAYLIGHT
TZOFFSETFROM:-0800
TZOFFSETTO:-0700
TZNAME:PDT
DTSTART:20220313T100000
END:DAYLIGHT
BEGIN:STANDARD
TZOFFSETFROM:-0700
TZOFFSETTO:-0800
TZNAME:PST
DTSTART:20221106T090000
END:STANDARD
BEGIN:DAYLIGHT
TZOFFSETFROM:-0800
TZOFFSETTO:-0700
TZNAME:PDT
DTSTART:20230312T100000
END:DAYLIGHT
BEGIN:STANDARD
TZOFFSETFROM:-0700
TZOFFSETTO:-0800
TZNAME:PST
DTSTART:20231105T090000
END:STANDARD
BEGIN:DAYLIGHT
TZOFFSETFROM:-0800
TZOFFSETTO:-0700
TZNAME:PDT
DTSTART:20240310T100000
END:DAYLIGHT
BEGIN:STANDARD
TZOFFSETFROM:-0700
TZOFFSETTO:-0800
TZNAME:PST
DTSTART:20241103T090000
END:STANDARD
END:VTIMEZONE
BEGIN:VEVENT
DTSTART;TZID=America/Los_Angeles:20230422T100000
DTEND;TZID=America/Los_Angeles:20230422T140000
DTSTAMP:20260425T063611
CREATED:20230120T230505Z
LAST-MODIFIED:20230411T223328Z
UID:3369-1682157600-1682172000@adoptocpets.org
SUMMARY:South County Pet Expo 2023
DESCRIPTION:We are planning the 2023 South County Pet Expo with the City of Lake Forest and Chairman of the Orange County Board of Supervisors\, Donald Wagner. This year the event will coincide with Earth Day\, Saturday\, April 22\, 2023. The event will be held from 10 am – 2 pm at the Lake Forest Sports Park. Mark your calendar. If you have pet-related products or services\, or operate a pet-related nonprofit\, contact sponsor@adoptocpets.org for booth information. See you there! \nFollow our new Instagram account: @southcountypetexpo
URL:https://adoptocpets.org/event/south-county-pet-expo-2023/
LOCATION:Lake Forest Sports Park\, 28000 Rancho Parkway\, Lake Forest\, CA\, 92630\, United States
CATEGORIES:Adoption Event,Events,Fundraiser
ATTACH;FMTTYPE=image/jpeg:https://adoptocpets.org/wp-content/uploads/2023/01/IMG_1768.jpeg
END:VEVENT
END:VCALENDAR